Package: BufferedMatrix Version: 1.72.0 Command: /home/biocbuild/bbs-3.21-bioc/R/bin/R CMD INSTALL BufferedMatrix StartedAt: 2025-10-15 15:02:00 -0400 (Wed, 15 Oct 2025) EndedAt: 2025-10-15 15:02:12 -0400 (Wed, 15 Oct 2025) EllapsedTime: 11.7 seconds RetCode: 0 Status: OK