Package: BufferedMatrix Version: 1.72.0 Command: /home/biocbuild/bbs-3.21-bioc/R/bin/R CMD build --keep-empty-dirs --no-resave-data BufferedMatrix StartedAt: 2025-10-15 16:31:48 -0400 (Wed, 15 Oct 2025) EndedAt: 2025-10-15 16:31:57 -0400 (Wed, 15 Oct 2025) EllapsedTime: 9.0 seconds RetCode: 0 Status: OK PackageFile: BufferedMatrix_1.72.0.tar.gz PackageFileSize: 629.2 KiB