Package: BufferedMatrix Version: 1.72.0 Command: /Library/Frameworks/R.framework/Resources/bin/R CMD INSTALL BufferedMatrix StartedAt: 2025-10-13 15:06:12 -0400 (Mon, 13 Oct 2025) EndedAt: 2025-10-13 15:06:23 -0400 (Mon, 13 Oct 2025) EllapsedTime: 10.8 seconds RetCode: 0 Status: OK