Package: BufferedMatrix Version: 1.72.0 Command: /Library/Frameworks/R.framework/Resources/bin/R CMD check --install=check:BufferedMatrix.install-out.txt --library=/Library/Frameworks/R.framework/Resources/library --no-vignettes --timings BufferedMatrix_1.72.0.tar.gz StartedAt: 2025-10-14 00:56:46 -0400 (Tue, 14 Oct 2025) EndedAt: 2025-10-14 00:58:02 -0400 (Tue, 14 Oct 2025) EllapsedTime: 76.2 seconds RetCode: 0 Status: WARNINGS CheckDir: BufferedMatrix.Rcheck Warnings: 1