Package: BufferedMatrix Version: 1.72.0 Command: /Library/Frameworks/R.framework/Resources/bin/R CMD build --keep-empty-dirs --no-resave-data BufferedMatrix StartedAt: 2025-10-13 20:21:16 -0400 (Mon, 13 Oct 2025) EndedAt: 2025-10-13 20:21:32 -0400 (Mon, 13 Oct 2025) EllapsedTime: 16.1 seconds RetCode: 0 Status: OK PackageFile: BufferedMatrix_1.72.0.tar.gz PackageFileSize: 629.4 KiB