Package: BrowserViz Version: 2.30.0 Command: E:\biocbuild\bbs-3.21-bioc\R\bin\R.exe CMD check --no-multiarch --install=check:BrowserViz.install-out.txt --library=E:\biocbuild\bbs-3.21-bioc\R\library --no-vignettes --timings BrowserViz_2.30.0.tar.gz StartedAt: 2025-08-15 00:10:41 -0400 (Fri, 15 Aug 2025) EndedAt: 2025-08-15 00:11:38 -0400 (Fri, 15 Aug 2025) EllapsedTime: 57.9 seconds RetCode: 0 Status: OK CheckDir: BrowserViz.Rcheck Warnings: 0