Package: BrowserViz Version: 2.30.0 Command: /home/biocbuild/bbs-3.21-bioc/R/bin/R CMD check --install=check:BrowserViz.install-out.txt --library=/home/biocbuild/bbs-3.21-bioc/R/site-library --timings BrowserViz_2.30.0.tar.gz StartedAt: 2025-10-15 21:22:02 -0400 (Wed, 15 Oct 2025) EndedAt: 2025-10-15 21:22:27 -0400 (Wed, 15 Oct 2025) EllapsedTime: 25.1 seconds RetCode: 0 Status: OK CheckDir: BrowserViz.Rcheck Warnings: 0