Package: BrowserViz Version: 2.30.0 Command: rm -rf BrowserViz.buildbin-libdir && mkdir BrowserViz.buildbin-libdir && /Users/biocbuild/BBS/utils/build-universal.sh BrowserViz_2.30.0.tar.gz /Library/Frameworks/R.framework/Resources/bin/R BrowserViz.buildbin-libdir StartedAt: 2025-04-22 00:36:15 -0400 (Tue, 22 Apr 2025) EndedAt: 2025-04-22 00:36:22 -0400 (Tue, 22 Apr 2025) EllapsedTime: 7.0 seconds RetCode: 0 Status: OK PackageFile: BrowserViz_2.30.0.tgz PackageFileSize: 415.5 KiB