Package: Biostrings Version: 2.76.0 Command: E:\biocbuild\bbs-3.21-bioc\R\bin\R.exe CMD check --no-multiarch --install=check:Biostrings.install-out.txt --library=E:\biocbuild\bbs-3.21-bioc\R\library --no-vignettes --timings Biostrings_2.76.0.tar.gz StartedAt: 2025-08-15 00:02:27 -0400 (Fri, 15 Aug 2025) EndedAt: 2025-08-15 00:13:40 -0400 (Fri, 15 Aug 2025) EllapsedTime: 673.1 seconds RetCode: 0 Status: WARNINGS CheckDir: Biostrings.Rcheck Warnings: 2