Package: Biostrings Version: 2.76.0 Command: rm -rf Biostrings.buildbin-libdir && mkdir Biostrings.buildbin-libdir && E:\biocbuild\bbs-3.21-bioc\R\bin\R.exe CMD INSTALL --build --library=Biostrings.buildbin-libdir Biostrings_2.76.0.tar.gz StartedAt: 2025-08-15 08:52:40 -0400 (Fri, 15 Aug 2025) EndedAt: 2025-08-15 08:57:20 -0400 (Fri, 15 Aug 2025) EllapsedTime: 280.3 seconds RetCode: 0 Status: OK PackageFile: Biostrings_2.76.0.zip PackageFileSize: 13.1 MiB