Package: BiocWorkflowTools Version: 1.34.0 Command: /home/biocbuild/bbs-3.21-bioc/R/bin/R CMD check --install=check:BiocWorkflowTools.install-out.txt --library=/home/biocbuild/bbs-3.21-bioc/R/site-library --timings BiocWorkflowTools_1.34.0.tar.gz StartedAt: 2025-10-15 21:13:02 -0400 (Wed, 15 Oct 2025) EndedAt: 2025-10-15 21:13:27 -0400 (Wed, 15 Oct 2025) EllapsedTime: 25.1 seconds RetCode: 0 Status: OK CheckDir: BiocWorkflowTools.Rcheck Warnings: 0