Package: BiocStyle Version: 2.36.0 Command: chmod a+r BiocStyle -R && E:\biocbuild\bbs-3.21-bioc\R\bin\R.exe CMD build --keep-empty-dirs --no-resave-data BiocStyle StartedAt: 2025-08-14 17:39:45 -0400 (Thu, 14 Aug 2025) EndedAt: 2025-08-14 17:40:15 -0400 (Thu, 14 Aug 2025) EllapsedTime: 29.9 seconds RetCode: 0 Status: OK PackageFile: BiocStyle_2.36.0.tar.gz PackageFileSize: 708.8 KiB