Package: BiocStyle Version: 2.36.0 Command: /Library/Frameworks/R.framework/Resources/bin/R CMD check --install=check:BiocStyle.install-out.txt --library=/Library/Frameworks/R.framework/Resources/library --no-vignettes --timings BiocStyle_2.36.0.tar.gz StartedAt: 2025-10-14 00:39:46 -0400 (Tue, 14 Oct 2025) EndedAt: 2025-10-14 00:41:27 -0400 (Tue, 14 Oct 2025) EllapsedTime: 101.0 seconds RetCode: 0 Status: OK CheckDir: BiocStyle.Rcheck Warnings: 0