Package: BiocStyle Version: 2.36.0 Command: /Library/Frameworks/R.framework/Resources/bin/R CMD build --keep-empty-dirs --no-resave-data BiocStyle StartedAt: 2025-10-13 17:25:05 -0400 (Mon, 13 Oct 2025) EndedAt: 2025-10-13 17:25:36 -0400 (Mon, 13 Oct 2025) EllapsedTime: 31.1 seconds RetCode: 0 Status: OK PackageFile: BiocStyle_2.36.0.tar.gz PackageFileSize: 775.4 KiB