Package: BiocStyle Version: 2.36.0 Command: rm -rf BiocStyle.buildbin-libdir && mkdir BiocStyle.buildbin-libdir && /Users/biocbuild/BBS/utils/build-universal.sh BiocStyle_2.36.0.tar.gz /Library/Frameworks/R.framework/Resources/bin/R BiocStyle.buildbin-libdir StartedAt: 2025-10-14 12:55:18 -0400 (Tue, 14 Oct 2025) EndedAt: 2025-10-14 12:55:26 -0400 (Tue, 14 Oct 2025) EllapsedTime: 8.7 seconds RetCode: 0 Status: OK PackageFile: BiocStyle_2.36.0.tgz PackageFileSize: 835.5 KiB