Package: BiocSklearn Version: 1.30.0 Command: /home/biocbuild/R/R/bin/R CMD check --install=check:BiocSklearn.install-out.txt --library=/home/biocbuild/R/R/site-library --no-vignettes --timings BiocSklearn_1.30.0.tar.gz StartedAt: 2025-10-14 06:43:59 -0000 (Tue, 14 Oct 2025) EndedAt: 2025-10-14 06:58:07 -0000 (Tue, 14 Oct 2025) EllapsedTime: 847.4 seconds RetCode: 0 Status: OK CheckDir: BiocSklearn.Rcheck Warnings: 0