Package: BiocSingular Version: 1.24.0 Command: /home/biocbuild/R/R/bin/R CMD build --keep-empty-dirs --no-resave-data BiocSingular StartedAt: 2025-09-29 23:06:23 -0000 (Mon, 29 Sep 2025) EndedAt: 2025-09-29 23:07:21 -0000 (Mon, 29 Sep 2025) EllapsedTime: 58.0 seconds RetCode: 0 Status: OK PackageFile: BiocSingular_1.24.0.tar.gz PackageFileSize: 733.5 KiB