Package: BiocSingular Version: 1.24.0 Command: /Library/Frameworks/R.framework/Resources/bin/R CMD INSTALL BiocSingular StartedAt: 2025-04-21 15:28:10 -0400 (Mon, 21 Apr 2025) EndedAt: 2025-04-21 15:28:21 -0400 (Mon, 21 Apr 2025) EllapsedTime: 10.8 seconds RetCode: 0 Status: OK