Package: BiocSingular Version: 1.24.0 Command: /Library/Frameworks/R.framework/Resources/bin/R CMD INSTALL BiocSingular StartedAt: 2025-10-13 18:09:21 -0400 (Mon, 13 Oct 2025) EndedAt: 2025-10-13 18:09:50 -0400 (Mon, 13 Oct 2025) EllapsedTime: 29.2 seconds RetCode: 0 Status: OK