Package: BiocSingular Version: 1.24.0 Command: /Library/Frameworks/R.framework/Resources/bin/R CMD check --install=check:BiocSingular.install-out.txt --library=/Library/Frameworks/R.framework/Resources/library --no-vignettes --timings BiocSingular_1.24.0.tar.gz StartedAt: 2025-10-14 14:16:34 -0400 (Tue, 14 Oct 2025) EndedAt: 2025-10-14 14:19:29 -0400 (Tue, 14 Oct 2025) EllapsedTime: 175.8 seconds RetCode: 0 Status: WARNINGS CheckDir: BiocSingular.Rcheck Warnings: 1