Package: BiocSingular Version: 1.24.0 Command: rm -rf BiocSingular.buildbin-libdir && mkdir BiocSingular.buildbin-libdir && /Users/biocbuild/BBS/utils/build-universal.sh BiocSingular_1.24.0.tar.gz /Library/Frameworks/R.framework/Resources/bin/R BiocSingular.buildbin-libdir StartedAt: 2025-10-15 17:36:20 -0400 (Wed, 15 Oct 2025) EndedAt: 2025-10-15 17:36:54 -0400 (Wed, 15 Oct 2025) EllapsedTime: 34.3 seconds RetCode: 0 Status: OK PackageFile: BiocSingular_1.24.0.tgz PackageFileSize: 926.5 KiB