Package: BiocSet Version: 1.22.0 Command: /home/biocbuild/R/R/bin/R CMD INSTALL BiocSet StartedAt: 2025-10-13 20:39:40 -0000 (Mon, 13 Oct 2025) EndedAt: 2025-10-13 20:40:03 -0000 (Mon, 13 Oct 2025) EllapsedTime: 23.0 seconds RetCode: 0 Status: OK