Package: BiocSet Version: 1.22.0 Command: /home/biocbuild/R/R/bin/R CMD check --install=check:BiocSet.install-out.txt --library=/home/biocbuild/R/R/site-library --no-vignettes --timings BiocSet_1.22.0.tar.gz StartedAt: 2025-10-14 06:43:54 -0000 (Tue, 14 Oct 2025) EndedAt: 2025-10-14 06:59:27 -0000 (Tue, 14 Oct 2025) EllapsedTime: 932.5 seconds RetCode: 1 Status: ERROR CheckDir: BiocSet.Rcheck Warnings: NA