Package: BiocSet Version: 1.22.0 Command: /home/biocbuild/R/R/bin/R CMD build --keep-empty-dirs --no-resave-data BiocSet StartedAt: 2025-10-13 23:07:03 -0000 (Mon, 13 Oct 2025) EndedAt: 2025-10-13 23:10:01 -0000 (Mon, 13 Oct 2025) EllapsedTime: 178.1 seconds RetCode: 0 Status: OK PackageFile: BiocSet_1.22.0.tar.gz PackageFileSize: 427.1 KiB