Package: BiocNeighbors Version: 2.2.0 Command: rm -rf BiocNeighbors.buildbin-libdir && mkdir BiocNeighbors.buildbin-libdir && /Users/biocbuild/BBS/utils/build-universal.sh BiocNeighbors_2.2.0.tar.gz /Library/Frameworks/R.framework/Resources/bin/R BiocNeighbors.buildbin-libdir StartedAt: 2025-10-14 12:55:04 -0400 (Tue, 14 Oct 2025) EndedAt: 2025-10-14 12:56:24 -0400 (Tue, 14 Oct 2025) EllapsedTime: 80.4 seconds RetCode: 0 Status: OK PackageFile: BiocNeighbors_2.2.0.tgz PackageFileSize: 715.9 KiB