Package: BiocNeighbors Version: 2.2.0 Command: /Library/Frameworks/R.framework/Resources/bin/R CMD build --keep-empty-dirs --no-resave-data BiocNeighbors StartedAt: 2025-09-29 20:05:24 -0400 (Mon, 29 Sep 2025) EndedAt: 2025-09-29 20:06:10 -0400 (Mon, 29 Sep 2025) EllapsedTime: 46.0 seconds RetCode: 0 Status: OK PackageFile: BiocNeighbors_2.2.0.tar.gz PackageFileSize: 328.6 KiB