Package: BiocNeighbors Version: 2.2.0 Command: rm -rf BiocNeighbors.buildbin-libdir && mkdir BiocNeighbors.buildbin-libdir && /Users/biocbuild/BBS/utils/build-universal.sh BiocNeighbors_2.2.0.tar.gz /Library/Frameworks/R.framework/Resources/bin/R BiocNeighbors.buildbin-libdir StartedAt: 2025-10-01 17:34:34 -0400 (Wed, 01 Oct 2025) EndedAt: 2025-10-01 17:35:15 -0400 (Wed, 01 Oct 2025) EllapsedTime: 40.6 seconds RetCode: 0 Status: OK PackageFile: BiocNeighbors_2.2.0.tgz PackageFileSize: 685.2 KiB