Package: BiocIO Version: 1.18.0 Command: /Library/Frameworks/R.framework/Resources/bin/R CMD build --keep-empty-dirs --no-resave-data BiocIO StartedAt: 2025-10-13 17:24:08 -0400 (Mon, 13 Oct 2025) EndedAt: 2025-10-13 17:24:27 -0400 (Mon, 13 Oct 2025) EllapsedTime: 19.9 seconds RetCode: 0 Status: OK PackageFile: BiocIO_1.18.0.tar.gz PackageFileSize: 226.3 KiB