Package: BiocHubsShiny Version: 1.8.1 Maintainer: Marcel Ramos MaintainerEmail: marcel.ramos at sph.cuny.edu git_url: https://git.bioconductor.org/packages/BiocHubsShiny git_branch: RELEASE_3_21 git_last_commit: 166f61d git_last_commit_date: 2025-05-21 19:32:08 -0400 (Wed, 21 May 2025)