Package: BiocHail Version: 1.8.0 Command: /home/biocbuild/bbs-3.21-bioc/R/bin/R CMD INSTALL BiocHail StartedAt: 2025-10-15 15:11:07 -0400 (Wed, 15 Oct 2025) EndedAt: 2025-10-15 15:11:15 -0400 (Wed, 15 Oct 2025) EllapsedTime: 8.7 seconds RetCode: 0 Status: OK