Package: BiocHail Version: 1.8.0 Command: /home/biocbuild/bbs-3.21-bioc/R/bin/R CMD build --keep-empty-dirs --no-resave-data BiocHail StartedAt: 2025-10-15 16:25:38 -0400 (Wed, 15 Oct 2025) EndedAt: 2025-10-15 16:25:56 -0400 (Wed, 15 Oct 2025) EllapsedTime: 18.0 seconds RetCode: 1 Status: ERROR PackageFile: None PackageFileSize: NA