Package: BiocHail Version: 1.8.0 Command: /home/biocbuild/R/R/bin/R CMD INSTALL BiocHail StartedAt: 2025-10-13 20:23:11 -0000 (Mon, 13 Oct 2025) EndedAt: 2025-10-13 20:23:23 -0000 (Mon, 13 Oct 2025) EllapsedTime: 12.0 seconds RetCode: 0 Status: OK