Package: BiocHail Version: 1.8.0 Command: /home/biocbuild/R/R/bin/R CMD build --keep-empty-dirs --no-resave-data BiocHail StartedAt: 2025-10-13 23:06:14 -0000 (Mon, 13 Oct 2025) EndedAt: 2025-10-13 23:07:03 -0000 (Mon, 13 Oct 2025) EllapsedTime: 49.0 seconds RetCode: 0 Status: OK PackageFile: BiocHail_1.8.0.tar.gz PackageFileSize: 2.653 MiB