Package: BiocHail Version: 1.8.0 Maintainer: Vincent Carey MaintainerEmail: stvjc at channing.harvard.edu git_url: https://git.bioconductor.org/packages/BiocHail git_branch: RELEASE_3_21 git_last_commit: 747e24e git_last_commit_date: 2025-04-15 13:15:00 -0400 (Tue, 15 Apr 2025)