Package: BiocFHIR Version: 1.10.0 Command: rm -rf BiocFHIR.buildbin-libdir && mkdir BiocFHIR.buildbin-libdir && /Users/biocbuild/BBS/utils/build-universal.sh BiocFHIR_1.10.0.tar.gz /Library/Frameworks/R.framework/Resources/bin/R BiocFHIR.buildbin-libdir StartedAt: 2025-10-15 17:35:32 -0400 (Wed, 15 Oct 2025) EndedAt: 2025-10-15 17:35:42 -0400 (Wed, 15 Oct 2025) EllapsedTime: 10.3 seconds RetCode: 0 Status: OK PackageFile: BiocFHIR_1.10.0.tgz PackageFileSize: 4.292 MiB