Package: BiocCheck Version: 1.44.2 Command: /Library/Frameworks/R.framework/Resources/bin/R CMD check --install=check:BiocCheck.install-out.txt --library=/Library/Frameworks/R.framework/Resources/library --no-vignettes --timings BiocCheck_1.44.2.tar.gz StartedAt: 2025-09-26 13:53:37 -0400 (Fri, 26 Sep 2025) EndedAt: 2025-09-26 13:57:35 -0400 (Fri, 26 Sep 2025) EllapsedTime: 237.6 seconds RetCode: 0 Status: OK CheckDir: BiocCheck.Rcheck Warnings: 0