Package: BiocBook Version: 1.6.0 Command: E:\biocbuild\bbs-3.21-bioc\R\bin\R.exe CMD check --no-multiarch --install=check:BiocBook.install-out.txt --library=E:\biocbuild\bbs-3.21-bioc\R\library --no-vignettes --timings BiocBook_1.6.0.tar.gz StartedAt: 2025-08-14 23:49:17 -0400 (Thu, 14 Aug 2025) EndedAt: 2025-08-14 23:51:37 -0400 (Thu, 14 Aug 2025) EllapsedTime: 140.3 seconds RetCode: 1 Status: ERROR CheckDir: BiocBook.Rcheck Warnings: NA