Package: BiocBook Version: 1.6.0 Command: rm -rf BiocBook.buildbin-libdir && mkdir BiocBook.buildbin-libdir && E:\biocbuild\bbs-3.21-bioc\R\bin\R.exe CMD INSTALL --build --library=BiocBook.buildbin-libdir BiocBook_1.6.0.tar.gz StartedAt: 2025-08-15 08:50:31 -0400 (Fri, 15 Aug 2025) EndedAt: 2025-08-15 08:51:08 -0400 (Fri, 15 Aug 2025) EllapsedTime: 36.5 seconds RetCode: 0 Status: OK PackageFile: BiocBook_1.6.0.zip PackageFileSize: 1.034 MiB