Package: BiocBook Version: 1.6.0 Command: /home/biocbuild/bbs-3.21-bioc/R/bin/R CMD check --install=check:BiocBook.install-out.txt --library=/home/biocbuild/bbs-3.21-bioc/R/site-library --timings BiocBook_1.6.0.tar.gz StartedAt: 2025-10-15 21:10:40 -0400 (Wed, 15 Oct 2025) EndedAt: 2025-10-15 21:13:20 -0400 (Wed, 15 Oct 2025) EllapsedTime: 159.3 seconds RetCode: 0 Status: OK CheckDir: BiocBook.Rcheck Warnings: 0