Package: BiocBook Version: 1.6.0 Command: rm -rf BiocBook.buildbin-libdir && mkdir BiocBook.buildbin-libdir && /Users/biocbuild/BBS/utils/build-universal.sh BiocBook_1.6.0.tar.gz /Library/Frameworks/R.framework/Resources/bin/R BiocBook.buildbin-libdir StartedAt: 2025-10-14 12:54:51 -0400 (Tue, 14 Oct 2025) EndedAt: 2025-10-14 12:55:07 -0400 (Tue, 14 Oct 2025) EllapsedTime: 15.9 seconds RetCode: 0 Status: OK PackageFile: BiocBook_1.6.0.tgz PackageFileSize: 1.028 MiB