Package: BiocBook Version: 1.6.0 Command: /home/biocbuild/R/R/bin/R CMD INSTALL BiocBook StartedAt: 2025-10-13 20:23:18 -0000 (Mon, 13 Oct 2025) EndedAt: 2025-10-13 20:23:25 -0000 (Mon, 13 Oct 2025) EllapsedTime: 7.8 seconds RetCode: 0 Status: OK