Package: BiocBook Version: 1.6.0 Command: /home/biocbuild/R/R/bin/R CMD check --install=check:BiocBook.install-out.txt --library=/home/biocbuild/R/R/site-library --no-vignettes --timings BiocBook_1.6.0.tar.gz StartedAt: 2025-10-14 06:40:31 -0000 (Tue, 14 Oct 2025) EndedAt: 2025-10-14 06:56:38 -0000 (Tue, 14 Oct 2025) EllapsedTime: 967.4 seconds RetCode: 0 Status: OK CheckDir: BiocBook.Rcheck Warnings: 0