Package: BiocBook Version: 1.6.0 Command: /home/biocbuild/R/R/bin/R CMD build --keep-empty-dirs --no-resave-data BiocBook StartedAt: 2025-10-13 23:05:50 -0000 (Mon, 13 Oct 2025) EndedAt: 2025-10-13 23:06:36 -0000 (Mon, 13 Oct 2025) EllapsedTime: 46.0 seconds RetCode: 0 Status: OK PackageFile: BiocBook_1.6.0.tar.gz PackageFileSize: 967.9 KiB