Package: Biobase Version: 2.68.0 Command: chmod a+r Biobase -R && E:\biocbuild\bbs-3.21-bioc\R\bin\R.exe CMD build --keep-empty-dirs --no-resave-data Biobase StartedAt: 2025-08-14 17:36:51 -0400 (Thu, 14 Aug 2025) EndedAt: 2025-08-14 17:38:06 -0400 (Thu, 14 Aug 2025) EllapsedTime: 75.8 seconds RetCode: 0 Status: OK PackageFile: Biobase_2.68.0.tar.gz PackageFileSize: 1.714 MiB