Package: Biobase Version: 2.68.0 Command: /home/biocbuild/bbs-3.21-bioc/R/bin/R CMD INSTALL Biobase StartedAt: 2025-10-15 15:11:08 -0400 (Wed, 15 Oct 2025) EndedAt: 2025-10-15 15:11:17 -0400 (Wed, 15 Oct 2025) EllapsedTime: 9.3 seconds RetCode: 0 Status: OK