Package: Biobase Version: 2.68.0 Command: /home/biocbuild/bbs-3.21-bioc/R/bin/R CMD check --install=check:Biobase.install-out.txt --library=/home/biocbuild/bbs-3.21-bioc/R/site-library --timings Biobase_2.68.0.tar.gz StartedAt: 2025-10-15 21:09:50 -0400 (Wed, 15 Oct 2025) EndedAt: 2025-10-15 21:11:08 -0400 (Wed, 15 Oct 2025) EllapsedTime: 78.4 seconds RetCode: 0 Status: OK CheckDir: Biobase.Rcheck Warnings: 0