Package: Biobase Version: 2.68.0 Command: /Library/Frameworks/R.framework/Resources/bin/R CMD INSTALL Biobase StartedAt: 2025-10-13 15:33:12 -0400 (Mon, 13 Oct 2025) EndedAt: 2025-10-13 15:33:23 -0400 (Mon, 13 Oct 2025) EllapsedTime: 11.0 seconds RetCode: 0 Status: OK