Package: Biobase Version: 2.68.0 Command: /Library/Frameworks/R.framework/Resources/bin/R CMD check --install=check:Biobase.install-out.txt --library=/Library/Frameworks/R.framework/Resources/library --no-vignettes --timings Biobase_2.68.0.tar.gz StartedAt: 2025-10-14 14:06:52 -0400 (Tue, 14 Oct 2025) EndedAt: 2025-10-14 14:08:26 -0400 (Tue, 14 Oct 2025) EllapsedTime: 94.8 seconds RetCode: 0 Status: OK CheckDir: Biobase.Rcheck Warnings: 0