Package: Biobase Version: 2.68.0 Command: rm -rf Biobase.buildbin-libdir && mkdir Biobase.buildbin-libdir && /Users/biocbuild/BBS/utils/build-universal.sh Biobase_2.68.0.tar.gz /Library/Frameworks/R.framework/Resources/bin/R Biobase.buildbin-libdir StartedAt: 2025-10-15 17:35:06 -0400 (Wed, 15 Oct 2025) EndedAt: 2025-10-15 17:35:21 -0400 (Wed, 15 Oct 2025) EllapsedTime: 14.6 seconds RetCode: 0 Status: OK PackageFile: Biobase_2.68.0.tgz PackageFileSize: 2.51 MiB