Package: BioTIP Version: 1.22.0 Command: /home/biocbuild/bbs-3.21-bioc/R/bin/R CMD check --install=check:BioTIP.install-out.txt --library=/home/biocbuild/bbs-3.21-bioc/R/site-library --timings BioTIP_1.22.0.tar.gz StartedAt: 2025-10-15 21:14:58 -0400 (Wed, 15 Oct 2025) EndedAt: 2025-10-15 21:17:44 -0400 (Wed, 15 Oct 2025) EllapsedTime: 166.3 seconds RetCode: 0 Status: WARNINGS CheckDir: BioTIP.Rcheck Warnings: 2